BEGIN:VCALENDAR
PRODID:-//github.com/rianjs/ical.net//NONSGML ical.net 4.0//EN
VERSION:2.0
BEGIN:VEVENT
DESCRIPTION:FAU møte
DTEND:20250304T200000
DTSTAMP:20260420T134958Z
DTSTART:20250304T180000
LOCATION:Personalrommet
SEQUENCE:0
SUMMARY:FAU møte
UID:0a0dd1f9-100f-4f1e-b828-79ba69c64cde
END:VEVENT
END:VCALENDAR
